BEGIN:VCALENDAR
VERSION:2.0
PRODID:-//eventon.com NONSGML v1.0//EN
BEGIN:VEVENT
UID:69e76da3ccd46
DTSTAMP:20260421T072923
DTSTART:20220122
DTEND:20220123
TZID:America/Chicago
LOCATION:
SUMMARY:UFC 270
DESCRIPTION: UFC 270\nhttps://5u2022.spindlecloud.net/events/ufc-270/
URL:https://5u2022.spindlecloud.net/events/ufc-270/
END:VEVENT
END:VCALENDAR