BEGIN:VCALENDAR
VERSION:2.0
PRODID:-//eventon.com NONSGML v1.0//EN
BEGIN:VEVENT
UID:69e7583176850
DTSTAMP:20260421T055753
DTSTART:20220110
DTEND:20220111
TZID:America/Chicago
LOCATION:
SUMMARY:2022 College Football Championship
DESCRIPTION: 2022 College Football Championship\nhttps://5u2022.spindlecloud.net/events/2022-college-football-championship/
URL:https://5u2022.spindlecloud.net/events/2022-college-football-championship/
END:VEVENT
END:VCALENDAR