BEGIN:VCALENDAR
VERSION:2.0
PRODID:-//eventon.com NONSGML v1.0//EN
BEGIN:VEVENT
UID:69e4e998b6277
DTSTAMP:20260419T094128
DTSTART:20220103
DTEND:20220104
TZID:America/Chicago
LOCATION:
SUMMARY:Cardinal Mondays
DESCRIPTION: Cardinal Mondays\nhttps://5u2022.spindlecloud.net/events/cardinal-mondays/
URL:https://5u2022.spindlecloud.net/events/cardinal-mondays/
END:VEVENT
END:VCALENDAR